BEGIN:VCALENDAR
VERSION:2.0
PRODID:-//Union Populaire Républicaine | UPR - ECPv6.15.16//NONSGML v1.0//EN
CALSCALE:GREGORIAN
METHOD:PUBLISH
X-WR-CALNAME:Union Populaire Républicaine | UPR
X-ORIGINAL-URL:https://www.upr.fr
X-WR-CALDESC:Évènements pour Union Populaire Républicaine | UPR
REFRESH-INTERVAL;VALUE=DURATION:PT1H
X-Robots-Tag:noindex
X-PUBLISHED-TTL:PT1H
BEGIN:VTIMEZONE
TZID:Europe/Paris
BEGIN:DAYLIGHT
TZOFFSETFROM:+0100
TZOFFSETTO:+0200
TZNAME:CEST
DTSTART:20250330T010000
END:DAYLIGHT
BEGIN:STANDARD
TZOFFSETFROM:+0200
TZOFFSETTO:+0100
TZNAME:CET
DTSTART:20251026T010000
END:STANDARD
BEGIN:DAYLIGHT
TZOFFSETFROM:+0100
TZOFFSETTO:+0200
TZNAME:CEST
DTSTART:20260329T010000
END:DAYLIGHT
BEGIN:STANDARD
TZOFFSETFROM:+0200
TZOFFSETTO:+0100
TZNAME:CET
DTSTART:20261025T010000
END:STANDARD
BEGIN:DAYLIGHT
TZOFFSETFROM:+0100
TZOFFSETTO:+0200
TZNAME:CEST
DTSTART:20270328T010000
END:DAYLIGHT
BEGIN:STANDARD
TZOFFSETFROM:+0200
TZOFFSETTO:+0100
TZNAME:CET
DTSTART:20271031T010000
END:STANDARD
END:VTIMEZONE
BEGIN:VEVENT
DTSTART;TZID=Europe/Paris:20260425T120000
DTEND;TZID=Europe/Paris:20260425T140000
DTSTAMP:20260425T015830
CREATED:20260328T190024Z
LAST-MODIFIED:20260328T190331Z
UID:98887-1777118400-1777125600@www.upr.fr
SUMMARY:Déjeuner de la délégation de la Savoie à Saint-Jeoire-Prieuré
DESCRIPTION:La délégation de la Savoie organise un déjeuner pour ses adhérents et sympathisants le samedi 25 avril\, à midi\, à la Ferme de la Ramée\, 500 chemin de la Ramée\, à Saint-Jeoire-Prieuré. \nLe règlement se fera individuellement sur place et s’élèvera aux alentours de 30 euros. \nMerci de confirmer votre présence au 06 47 19 83 74 ou par courriel à delegation_73@upr.fr \nFabrice Guébey\, délégué de la Savoie
URL:https://www.upr.fr/evenement/dejeuner-de-la-delegation-de-la-savoie-a-saint-jeoire-prieure/
LOCATION:Saint-Geoire-Prieuré
CATEGORIES:Événement UPR
END:VEVENT
BEGIN:VEVENT
DTSTART;TZID=Europe/Paris:20260425T140000
DTEND;TZID=Europe/Paris:20260425T170000
DTSTAMP:20260425T015830
CREATED:20260407T194508Z
LAST-MODIFIED:20260407T194525Z
UID:99292-1777125600-1777136400@www.upr.fr
SUMMARY:Réunion de la délégation du Vaucluse à Châteaurenard
DESCRIPTION:La prochaine réunion de la délégation du Vaucluse se déroulera le samedi 25 avril\, à 14 heures\, chez Serge Pedracki\, au 921 chemin de la Croix du Vigneron\, à Châteaurenard. \nMuriel Hermier\, déléguée du Vaucluse \nCourriel : delegation_84@upr.fr \n\n\n\n  \n  \n 
URL:https://www.upr.fr/evenement/reunion-de-la-delegation-du-vaucluse-a-chateaurenard-10/
LOCATION:Chateaurenard
CATEGORIES:Événement UPR
END:VEVENT
BEGIN:VEVENT
DTSTART;TZID=Europe/Paris:20260425T150000
DTEND;TZID=Europe/Paris:20260425T170000
DTSTAMP:20260425T015830
CREATED:20260410T211947Z
LAST-MODIFIED:20260410T212050Z
UID:99483-1777129200-1777136400@www.upr.fr
SUMMARY:Réunion de la délégation du Rhône à Lyon
DESCRIPTION:La prochaine réunion mensuelle de la délégation du Rhône aura lieu samedi 25 avril\, de 15 heures à 17 heures\, à l’esprit Bistrot\, au 13 rue Berchet\, à Lyon 8ème arrondissement. \nContacts : patrice.cali@upr.fr ou delegation_69@upr.fr
URL:https://www.upr.fr/evenement/reunion-de-la-delegation-du-rhone-a-lyon-7/
LOCATION:Lyon
CATEGORIES:Événement UPR
END:VEVENT
END:VCALENDAR