BEGIN:VCALENDAR
VERSION:2.0
PRODID:-//Union Populaire Républicaine | UPR - ECPv6.15.16//NONSGML v1.0//EN
CALSCALE:GREGORIAN
METHOD:PUBLISH
X-ORIGINAL-URL:https://www.upr.fr
X-WR-CALDESC:Évènements pour Union Populaire Républicaine | UPR
REFRESH-INTERVAL;VALUE=DURATION:PT1H
X-Robots-Tag:noindex
X-PUBLISHED-TTL:PT1H
BEGIN:VTIMEZONE
TZID:Europe/Paris
BEGIN:DAYLIGHT
TZOFFSETFROM:+0100
TZOFFSETTO:+0200
TZNAME:CEST
DTSTART:20250330T010000
END:DAYLIGHT
BEGIN:STANDARD
TZOFFSETFROM:+0200
TZOFFSETTO:+0100
TZNAME:CET
DTSTART:20251026T010000
END:STANDARD
BEGIN:DAYLIGHT
TZOFFSETFROM:+0100
TZOFFSETTO:+0200
TZNAME:CEST
DTSTART:20260329T010000
END:DAYLIGHT
BEGIN:STANDARD
TZOFFSETFROM:+0200
TZOFFSETTO:+0100
TZNAME:CET
DTSTART:20261025T010000
END:STANDARD
BEGIN:DAYLIGHT
TZOFFSETFROM:+0100
TZOFFSETTO:+0200
TZNAME:CEST
DTSTART:20270328T010000
END:DAYLIGHT
BEGIN:STANDARD
TZOFFSETFROM:+0200
TZOFFSETTO:+0100
TZNAME:CET
DTSTART:20271031T010000
END:STANDARD
END:VTIMEZONE
BEGIN:VEVENT
DTSTART;TZID=Europe/Paris:20260105T200000
DTEND;TZID=Europe/Paris:20260105T223000
DTSTAMP:20260424T194304
CREATED:20251227T221222Z
LAST-MODIFIED:20251227T221222Z
UID:94143-1767643200-1767652200@www.upr.fr
SUMMARY:Réunion de la délégation du Maine-et-Loire aux Ponts-de-Cé
DESCRIPTION:La prochaine réunion de la délégation du Maine-et-Loire aura lieu lundi 5 janvier à 20 heures aux Ponts-de-Cé. \nContacts : \n– Informations sur les conditions d’organisation et adresse : delegation_49@upr.fr \n– Confirmation de votre participation : 06 23 13 08 81 (courriels/messages/SMS) \nPoints abordés : \n– Préparation de la réunion publique de François Asselineau du 15 février 2026 sur l’avenir de l’agriculture et des territoires \nDe 22h à 22h 45 : \n– Repas convivial \nDenis Dufour\, délégué du Maine-et-Loire \nCourriel : delegation_49@upr.fr \n 
URL:https://www.upr.fr/evenement/reunion-de-la-delegation-du-maine-et-loire-aux-ponts-de-ce-6/
LOCATION:Les Ponts-de-Cé
CATEGORIES:Événement UPR
END:VEVENT
BEGIN:VEVENT
DTSTART;TZID=Europe/Paris:20260109T140000
DTEND;TZID=Europe/Paris:20260109T170000
DTSTAMP:20260424T194304
CREATED:20251226T175342Z
LAST-MODIFIED:20251226T175342Z
UID:94116-1767967200-1767978000@www.upr.fr
SUMMARY:Permanence de la délégation du Haut-Rhin à Kaysersberg
DESCRIPTION:La délégation du Haut-Rhin tiendra sa permanence le vendredi 9 janvier\, de 14 heures à 17 heures\, au 7a rue du Geisbourg\, à Kaysersberg. \nSi vous souhaitez vous rendre à la permanence du Haut-Rhin\, vous pouvez contacter Denise Favrel au  07 71 62 74 60  (ou par courriel : favrel.denise@orange.fr). \nNous invitons tous les adhérents\, sympathisants et les curieux à venir nous rencontrer. Vous êtes les bienvenus ! \nDavid Nyom-Kieffer\, délégué du Haut-Rhin
URL:https://www.upr.fr/evenement/permanence-de-la-delegation-du-haut-rhin-a-kaysersberg-32/
LOCATION:Kaysersberg
CATEGORIES:Événement UPR
END:VEVENT
BEGIN:VEVENT
DTSTART;TZID=Europe/Paris:20260110T143000
DTEND;TZID=Europe/Paris:20260110T160000
DTSTAMP:20260424T194304
CREATED:20260106T204201Z
LAST-MODIFIED:20260106T204201Z
UID:94191-1768055400-1768060800@www.upr.fr
SUMMARY:Galette des rois de la délégation de l'Yonne
DESCRIPTION:La délégation de l’Yonne organise une réunion de ses adhérents le samedi 10 janvier\, à 14 h 30\, à Montigny-la-Resle\, pour déguster la galette des rois. \nChristian Basin\, délégué de l’Yonne \nCourriel : delegation_89@upr.fr \n 
URL:https://www.upr.fr/evenement/galette-des-rois-de-la-delegation-de-lyonne/
LOCATION:Montigny-la-Resle
CATEGORIES:Événement UPR
END:VEVENT
BEGIN:VEVENT
DTSTART;TZID=Europe/Paris:20260110T150000
DTEND;TZID=Europe/Paris:20260110T170000
DTSTAMP:20260424T194304
CREATED:20251216T212620Z
LAST-MODIFIED:20251216T212813Z
UID:94096-1768057200-1768064400@www.upr.fr
SUMMARY:Réunion de la délégation de l'Hérault à Saint-Clément-de-Rivière
DESCRIPTION:La prochaine réunion de la délégation de l’Hérault aura lieu le samedi 10 janvier\, à 15 heures\, au Domaine Puech\, 25 rue du Four\, à Saint-Clément-de-Rivière. \nNelly Paté\, déléguée de l’Hérault \nCourriel : delegation_34@upr.fr \n 
URL:https://www.upr.fr/evenement/reunion-de-la-delegation-de-lherault-a-saint-clement-de-riviere-9/
LOCATION:Saint-Clément-de-Rivière
CATEGORIES:Événement UPR
END:VEVENT
BEGIN:VEVENT
DTSTART;TZID=Europe/Paris:20260110T160000
DTEND;TZID=Europe/Paris:20260110T180000
DTSTAMP:20260424T194304
CREATED:20260110T212045Z
LAST-MODIFIED:20260110T212045Z
UID:94219-1768060800-1768068000@www.upr.fr
SUMMARY:Réunion de la délégation des Hauts-de-Seine à Issy-les-Moulineaux
DESCRIPTION:La délégation des Hauts-de-Seine se réunira samedi 10 janvier\, à 16 heures\, au Bistrot du Tramway\, 267 rue Jean-Jacques Rousseau\, à Issy-les-Moulineaux. \nLe bistrot se trouve juste à la descente du tramway T2\, en bas de l’escalier\, en face du centre commercial Issy 3 Moulins. \nArnaud Morlot\, délégué des Hauts-de-Seine \nCourriel : delegation_92@upr.fr
URL:https://www.upr.fr/evenement/reunion-de-la-delegation-des-hauts-de-seine-a-issy-les-moulineaux-4/
LOCATION:Issy-les-Moulineaux
CATEGORIES:Événement UPR
END:VEVENT
BEGIN:VEVENT
DTSTART;TZID=Europe/Paris:20260114T190000
DTEND;TZID=Europe/Paris:20260114T210000
DTSTAMP:20260424T194304
CREATED:20260112T173107Z
LAST-MODIFIED:20260112T173107Z
UID:94235-1768417200-1768424400@www.upr.fr
SUMMARY:Réunion de la délégation de la Vendée à Mouilleron-le-Captif
DESCRIPTION:La réunion mensuelle de la délégation de la Vendée se tiendra mercredi 14 janvier\, de 19 heures à 21 heures\, à Mouilleron-le-Captif (adresse par retour de courriel). \nNous aurons l’occasion de discuter des nouvelles de l’UPR et d’échanger sur l’actualité. \nAdhérent\, sympathisant\, militant\, simple curieux\, tout le monde est le bienvenu. \nPaul Remaud\, délégué de la Vendée \nCourriel : delegation_85@upr.fr
URL:https://www.upr.fr/evenement/reunion-de-la-delegation-de-la-vendee-a-mouilleron-le-captif-3/
LOCATION:Mouilleron-le-Captif
CATEGORIES:Événement UPR
END:VEVENT
BEGIN:VEVENT
DTSTART;TZID=Europe/Paris:20260115T190000
DTEND;TZID=Europe/Paris:20260115T220000
DTSTAMP:20260424T194304
CREATED:20260110T210754Z
LAST-MODIFIED:20260110T210754Z
UID:94215-1768503600-1768514400@www.upr.fr
SUMMARY:Permanence de la délégation du Rhône à Lyon
DESCRIPTION:La délégation du Rhône tiendra sa permanence le jeudi 15 janvier de 19 heures à 22 heures au Wallace Pub\, au 8 rue de la Claire\, à Lyon (à proximité de la gare de Vaise). \nContacts : Patrice Cali patrice.cali@upr.fr ou Olivier Pelingre delegation_69@upr.fr
URL:https://www.upr.fr/evenement/permanence-de-la-delegation-du-rhone-a-lyon/
LOCATION:Lyon
CATEGORIES:Événement UPR
END:VEVENT
BEGIN:VEVENT
DTSTART;TZID=Europe/Paris:20260116T140000
DTEND;TZID=Europe/Paris:20260116T170000
DTSTAMP:20260424T194304
CREATED:20251227T214323Z
LAST-MODIFIED:20251227T214323Z
UID:94129-1768572000-1768582800@www.upr.fr
SUMMARY:Permanence de la délégation du Haut-Rhin à Kaysersberg
DESCRIPTION:La délégation du Haut-Rhin tiendra sa permanence le vendredi 16 janvier\, de 14 heures à 17 heures\, au 7a rue du Geisbourg\, à Kaysersberg. \nSi vous souhaitez vous rendre à la permanence du Haut-Rhin\, vous pouvez contacter Denise Favrel au  07 71 62 74 60  (ou par courriel : favrel.denise@orange.fr). \nNous invitons tous les adhérents\, sympathisants et les curieux à venir nous rencontrer. Vous êtes les bienvenus ! \nDavid Nyom-Kieffer\, délégué du Haut-Rhin
URL:https://www.upr.fr/evenement/permanence-de-la-delegation-du-haut-rhin-a-kaysersberg-33/
LOCATION:Kaysersberg
CATEGORIES:Événement UPR
END:VEVENT
BEGIN:VEVENT
DTSTART;TZID=Europe/Paris:20260117T140000
DTEND;TZID=Europe/Paris:20260117T160000
DTSTAMP:20260424T194304
CREATED:20260110T213844Z
LAST-MODIFIED:20260116T233009Z
UID:94223-1768658400-1768665600@www.upr.fr
SUMMARY:Réunion de la délégation du Vaucluse à Orange
DESCRIPTION:La prochaine réunion de la délégation du Vaucluse se déroulera le samedi 17 janvier\, à 14 heures\, au 151 avenue Félix Ripert\, à Orange. \nMuriel Hermier\, déléguée du Vaucluse \nCourriel : delegation_84@upr.fr
URL:https://www.upr.fr/evenement/reunion-de-la-delegation-du-vaucluse-a-chateaurenard-7/
LOCATION:Orange
CATEGORIES:Événement UPR
END:VEVENT
BEGIN:VEVENT
DTSTART;TZID=Europe/Paris:20260117T143000
DTEND;TZID=Europe/Paris:20260117T163000
DTSTAMP:20260424T194304
CREATED:20260110T205534Z
LAST-MODIFIED:20260110T205609Z
UID:94212-1768660200-1768667400@www.upr.fr
SUMMARY:Réunion de la délégation du Calvados à Caen
DESCRIPTION:La délégation du Calvados tiendra le samedi 17 janvier\, à 14 h 30\, sa réunion mensuelle\, réservée aux adhérents de l’UPR\, autour d’une galette des rois\, à la maison de quartier de Vaucelles\, 1 bis rue de Branville\, à Caen. \nL’ordre du jour sera le suivant : \n– Présentation des nouveaux adhérents et rapide tour de table \n– Débat sur le programme\, afin de soumettre des mesures au Bureau Politique pour le programme 2027 \n– Bilan des différentes actions menées depuis notre dernière réunion \n– Nouvelles actions de terrain \n– Point sur le cybermilitantisme \n– Questions diverses \n– Distribution de matériel militant \nSimon Gervais\, délégué du Calvados \nTél : 06 42 91 81 95
URL:https://www.upr.fr/evenement/94212/
LOCATION:Caen
CATEGORIES:Événement UPR
END:VEVENT
BEGIN:VEVENT
DTSTART;TZID=Europe/Paris:20260123T140000
DTEND;TZID=Europe/Paris:20260123T170000
DTSTAMP:20260424T194304
CREATED:20251227T214543Z
LAST-MODIFIED:20251227T214715Z
UID:94131-1769176800-1769187600@www.upr.fr
SUMMARY:Permanence de la délégation du Haut-Rhin à Kaysersberg
DESCRIPTION:La délégation du Haut-Rhin tiendra sa permanence le vendredi 23 janvier\, de 14 heures à 17 heures\, au 7a rue du Geisbourg\, à Kaysersberg. \nSi vous souhaitez vous rendre à la permanence du Haut-Rhin\, vous pouvez contacter Denise Favrel au  07 71 62 74 60  (ou par courriel : favrel.denise@orange.fr). \nNous invitons tous les adhérents\, sympathisants et les curieux à venir nous rencontrer. Vous êtes les bienvenus ! \nDavid Nyom-Kieffer\, délégué du Haut-Rhin
URL:https://www.upr.fr/evenement/permanence-de-la-delegation-du-haut-rhin-a-kaysersberg-34/
LOCATION:Kaysersberg
CATEGORIES:Événement UPR
END:VEVENT
BEGIN:VEVENT
DTSTART;TZID=Europe/Paris:20260123T190000
DTEND;TZID=Europe/Paris:20260123T210000
DTSTAMP:20260424T194304
CREATED:20260110T212933Z
LAST-MODIFIED:20260110T212933Z
UID:94221-1769194800-1769202000@www.upr.fr
SUMMARY:Réunion de la délégation de la rive gauche de Paris dans le 13ème arrondissement
DESCRIPTION:La prochaine réunion de la délégation de la rive gauche de Paris aura lieu le vendredi 23 janvier\, à 19 heures\, à « L’auberge de la Butte aux Cailles »\, 8 rue de la Butte aux Cailles 75013 (métro Corvisart\, ligne 6). \nYves Limoge\, délégué de la rive gauche de Paris \nCourriel : paris.rive.gauche@upr.fr
URL:https://www.upr.fr/evenement/reunion-de-la-delegation-de-la-rive-gauche-de-paris-dans-le-13eme-arrondissement-7/
LOCATION:Paris 13ème arrondissement
CATEGORIES:Événement UPR
END:VEVENT
BEGIN:VEVENT
DTSTART;TZID=Europe/Paris:20260124T143000
DTEND;TZID=Europe/Paris:20260124T170000
DTSTAMP:20260424T194304
CREATED:20260110T211136Z
LAST-MODIFIED:20260110T211136Z
UID:94217-1769265000-1769274000@www.upr.fr
SUMMARY:Réunion de la délégation du Rhône à Lyon
DESCRIPTION:La prochaine réunion mensuelle (ouverte aux adhérents) aura lieu samedi 24 janvier\, de 14 h 30 à 17 heures\, à l’Esprit Bistrot\, au 13 rue Berchet\, à Lyon 8ème. \nContacts : Patrice Cali patrice.cali@upr.fr ou Olivier Pelingre delegation_69@upr.fr
URL:https://www.upr.fr/evenement/reunion-de-la-delegation-du-rhone-a-lyon-4/
LOCATION:Lyon
CATEGORIES:Événement UPR
END:VEVENT
BEGIN:VEVENT
DTSTART;TZID=Europe/Paris:20260124T143000
DTEND;TZID=Europe/Paris:20260124T170000
DTSTAMP:20260424T194304
CREATED:20260117T180437Z
LAST-MODIFIED:20260117T180517Z
UID:94255-1769265000-1769274000@www.upr.fr
SUMMARY:Réunion de la délégation de l'Isère à Vienne
DESCRIPTION:La prochaine réunion de la délégation de l’Isère\, ouverte aux adhérents\, aura lieu le samedi 24 janvier de 14 h 30 à 17 heures\, au Glacier\, 61 cours Romestang\, à Vienne. \nContact : Patrice Cali patrice.cali@upr.fr
URL:https://www.upr.fr/evenement/reunion-de-la-delegation-de-lisere-a-vienne/
LOCATION:Vienne
CATEGORIES:Événement UPR
END:VEVENT
BEGIN:VEVENT
DTSTART;TZID=Europe/Paris:20260129T173000
DTEND;TZID=Europe/Paris:20260129T200000
DTSTAMP:20260424T194304
CREATED:20260106T203420Z
LAST-MODIFIED:20260116T233144Z
UID:94189-1769707800-1769716800@www.upr.fr
SUMMARY:Réunion de la délégation du Royaume-Uni à Londres
DESCRIPTION:La délégation du Royaume-Uni organise une réunion de ses adhérents le jeudi 29 janvier\, à partir de 17 h 30 (heure britannique) à Cittie of Yorke\, 22 High Holborn\, à Londres. \nOrdre du jour : \n\nCréer une visibilité et une notoriété de l’UPR à l’étranger afin de contribuer à la visibilité et à la notoriété de l’UPR en France.\nFaire connaître à l’étranger la voix singulière portée par Francois Asselineau.\nCréer des relais d’opinion favorables à l’UPR au sein des diasporas\, médias et milieux diplomatiques.\nFavoriser la remontée d’informations internationales stratégiques vers la direction du parti.\nÉtablir un réseau international de contacts (personnalités\, associations\, médias\, groupes culturels ou politiques)\n\nDimitri de Vismes\, délégué du Royaume-Uni \nCourriel : dimitri.de-vismes@upr.fr \n 
URL:https://www.upr.fr/evenement/reunion-de-la-delegation-du-royaume-uni-a-londres/
LOCATION:Londres
CATEGORIES:Événement UPR
END:VEVENT
BEGIN:VEVENT
DTSTART;TZID=Europe/Paris:20260129T183000
DTEND;TZID=Europe/Paris:20260129T210000
DTSTAMP:20260424T194304
CREATED:20260127T212038Z
LAST-MODIFIED:20260127T212038Z
UID:95422-1769711400-1769720400@www.upr.fr
SUMMARY:Réunion de la délégation de la rive droite de Paris dans le 18ème arrondissement
DESCRIPTION:La prochaine réunion de la délégation de la rive droite de Paris aura lieu jeudi 29 janvier\, à partir de 18 h 30 au restaurant chez Gigi\, 33 rue de Clignancourt\, dans le 18ème arrondissement (métro Anvers ou Barbès Rochechouart). \nNicolas Panel\, délégué de la rive droite de Paris \nCourriel : paris.rive.droite@upr.fr
URL:https://www.upr.fr/evenement/reunion-de-la-delegation-de-la-rive-droite-de-paris-dans-le-18eme-arrondissement-2/
LOCATION:Paris 18ème arrondissement
CATEGORIES:Événement UPR
END:VEVENT
BEGIN:VEVENT
DTSTART;TZID=Europe/Paris:20260130T140000
DTEND;TZID=Europe/Paris:20260130T170000
DTSTAMP:20260424T194304
CREATED:20251227T214938Z
LAST-MODIFIED:20251227T214938Z
UID:94133-1769781600-1769792400@www.upr.fr
SUMMARY:Permanence de la délégation du Rhin à Kaysersberg
DESCRIPTION:La délégation du Haut-Rhin tiendra sa permanence le vendredi 30 janvier\, de 14 heures à 17 heures\, au 7a rue du Geisbourg\, à Kaysersberg. \nSi vous souhaitez vous rendre à la permanence du Haut-Rhin\, vous pouvez contacter Denise Favrel au  07 71 62 74 60  (ou par courriel : favrel.denise@orange.fr). \nNous invitons tous les adhérents\, sympathisants et les curieux à venir nous rencontrer. Vous êtes les bienvenus ! \nDavid Nyom-Kieffer\, délégué du Haut-Rhin
URL:https://www.upr.fr/evenement/permanence-de-la-delegation-du-rhin-a-kaysersberg/
CATEGORIES:Événement UPR
END:VEVENT
BEGIN:VEVENT
DTSTART;TZID=Europe/Paris:20260131T100000
DTEND;TZID=Europe/Paris:20260131T133000
DTSTAMP:20260424T194304
CREATED:20260119T202714Z
LAST-MODIFIED:20260119T202714Z
UID:94429-1769853600-1769866200@www.upr.fr
SUMMARY:Réunion de la délégation de l'Orne à Saint-Germain-de-la-Coudre
DESCRIPTION:La prochaine réunion de la délégation de l’Orne aura lieu le samedi 31 janvier\, à 10 heures\, à La Haute Brûlerie\, à Saint-Germain-de-la-Coudre. \nLa réunion sera suivie du repas de la délégation. \nSi vous souhaitez y participer\, merci de contacter Jacques Durvie par courriel : delegation_61@upr.fr \nJacques Durvie\, délégué de l’Orne
URL:https://www.upr.fr/evenement/reunion-de-la-delegation-de-lorne-a-saint-germain-de-la-coudre/
LOCATION:Saint-Germain-de-la-Coudre
CATEGORIES:Événement UPR
END:VEVENT
BEGIN:VEVENT
DTSTART;TZID=Europe/Paris:20260131T140000
DTEND;TZID=Europe/Paris:20260131T160000
DTSTAMP:20260424T194304
CREATED:20260118T203406Z
LAST-MODIFIED:20260118T203512Z
UID:94322-1769868000-1769875200@www.upr.fr
SUMMARY:Réunion de la délégation de l'Eure à La Vieille-Lyre
DESCRIPTION:La prochaine réunion de la délégation de l’Eure aura lieu le samedi 31 janvier\, au 14 rue Pierre Le Boulch\, à La Vieille-Lyre\, à 14 heures. \nNous y parlerons des nouvelles affiches et des recherches de promesses de parrainage. Nous discuterons aussi des nouveaux développements politiques. \nEnfin\, nous tenterons de choisir un thème pour le prochain café-débat qui aura lieu le dernier samedi de mois de février\, comme d’habitude. \nStéphanie Rouillon\, déléguée de l’Eure \nCourriel : delegation_27@upr.fr \n 
URL:https://www.upr.fr/evenement/reunion-de-la-delegation-de-leure-a-la-vieille-lyre-4/
LOCATION:La Vieille-Lyre
CATEGORIES:Événement UPR
END:VEVENT
END:VCALENDAR