BEGIN:VCALENDAR
VERSION:2.0
PRODID:-//Union Populaire Républicaine | UPR - ECPv6.15.16//NONSGML v1.0//EN
CALSCALE:GREGORIAN
METHOD:PUBLISH
X-ORIGINAL-URL:https://www.upr.fr
X-WR-CALDESC:Évènements pour Union Populaire Républicaine | UPR
REFRESH-INTERVAL;VALUE=DURATION:PT1H
X-Robots-Tag:noindex
X-PUBLISHED-TTL:PT1H
BEGIN:VTIMEZONE
TZID:Europe/Paris
BEGIN:DAYLIGHT
TZOFFSETFROM:+0100
TZOFFSETTO:+0200
TZNAME:CEST
DTSTART:20250330T010000
END:DAYLIGHT
BEGIN:STANDARD
TZOFFSETFROM:+0200
TZOFFSETTO:+0100
TZNAME:CET
DTSTART:20251026T010000
END:STANDARD
BEGIN:DAYLIGHT
TZOFFSETFROM:+0100
TZOFFSETTO:+0200
TZNAME:CEST
DTSTART:20260329T010000
END:DAYLIGHT
BEGIN:STANDARD
TZOFFSETFROM:+0200
TZOFFSETTO:+0100
TZNAME:CET
DTSTART:20261025T010000
END:STANDARD
BEGIN:DAYLIGHT
TZOFFSETFROM:+0100
TZOFFSETTO:+0200
TZNAME:CEST
DTSTART:20270328T010000
END:DAYLIGHT
BEGIN:STANDARD
TZOFFSETFROM:+0200
TZOFFSETTO:+0100
TZNAME:CET
DTSTART:20271031T010000
END:STANDARD
END:VTIMEZONE
BEGIN:VEVENT
DTSTART;TZID=Europe/Paris:20260202T200000
DTEND;TZID=Europe/Paris:20260202T223000
DTSTAMP:20260424T175435
CREATED:20251227T221616Z
LAST-MODIFIED:20251227T221616Z
UID:94145-1770062400-1770071400@www.upr.fr
SUMMARY:Réunion de la délégation du Maine-et-Loire aux Ponts-de-Cé
DESCRIPTION:La prochaine réunion de la délégation du Maine-et-Loire aura lieu lundi 2 février à 20 heures aux Ponts-de-Cé. \nContacts : \n– Informations sur les conditions d’organisation et adresse : delegation_49@upr.fr \n– Confirmation de votre participation : 06 23 13 08 81 (courriels/messages/SMS) \nPoints abordés : \nDe 20 heures à 22 heures : \n– Préparation de la réunion publique de François Asselineau du 15 février 2026 sur l’avenir de l’agriculture et des territoires \nDe 22h à 22h 45 : \n– Repas convivial \nDenis Dufour\, délégué du Maine-et-Loire \nCourriel : delegation_49@upr.fr \n 
URL:https://www.upr.fr/evenement/reunion-de-la-delegation-du-maine-et-loire-aux-ponts-de-ce-7/
LOCATION:Les Ponts-de-Cé
CATEGORIES:Événement UPR
END:VEVENT
BEGIN:VEVENT
DTSTART;TZID=Europe/Paris:20260206T140000
DTEND;TZID=Europe/Paris:20260206T170000
DTSTAMP:20260424T175435
CREATED:20251227T215125Z
LAST-MODIFIED:20251227T215125Z
UID:94135-1770386400-1770397200@www.upr.fr
SUMMARY:Permanence de la délégation du Haut-Rhin à Kaysersberg
DESCRIPTION:La délégation du Haut-Rhin tiendra sa permanence le vendredi 6 février\, de 14 heures à 17 heures\, au 7a rue du Geisbourg\, à Kaysersberg. \nSi vous souhaitez vous rendre à la permanence du Haut-Rhin\, vous pouvez contacter Denise Favrel au  07 71 62 74 60  (ou par courriel : favrel.denise@orange.fr). \nNous invitons tous les adhérents\, sympathisants et les curieux à venir nous rencontrer. Vous êtes les bienvenus ! \nDavid Nyom-Kieffer\, délégué du Haut-Rhin
URL:https://www.upr.fr/evenement/permanence-de-la-delegation-du-haut-rhin-a-kaysersberg-35/
LOCATION:Kaysersberg
CATEGORIES:Événement UPR
END:VEVENT
BEGIN:VEVENT
DTSTART;TZID=Europe/Paris:20260207T140000
DTEND;TZID=Europe/Paris:20260207T170000
DTSTAMP:20260424T175435
CREATED:20260120T210503Z
LAST-MODIFIED:20260120T210503Z
UID:94670-1770472800-1770483600@www.upr.fr
SUMMARY:Réunion de la délégation du Finistère à Châteaulin
DESCRIPTION:La prochaine réunion de la délégation du Finistère aura lieu le samedi 7 février\, de 14 heures à 17 heures\, au Centre Juvénat\, à Châteaulin. \nJean-François Gourvennec\, délégué du Finistère \nCourriel : delegation_29@upr.fr
URL:https://www.upr.fr/evenement/reunion-de-la-delegation-du-finistere-a-chateaulin-3/
LOCATION:Châteaulin
CATEGORIES:Événement UPR
END:VEVENT
BEGIN:VEVENT
DTSTART;TZID=Europe/Paris:20260207T143000
DTEND;TZID=Europe/Paris:20260207T163000
DTSTAMP:20260424T175435
CREATED:20260129T203044Z
LAST-MODIFIED:20260129T203149Z
UID:95609-1770474600-1770481800@www.upr.fr
SUMMARY:Réunion de la délégation de la Gironde à Croignon
DESCRIPTION:La prochaine réunion de la délégation de la Gironde aura lieu samedi 7 février\, à 14 h 30\, au 1301 chemin de Lartigue\, à Croignon. \nMarie-Line Ruis\, déléguée de la Gironde \nTél : 06 68 81 12 27
URL:https://www.upr.fr/evenement/reunion-de-la-delegation-de-la-gironde-a-croignon-5/
LOCATION:Croignon
CATEGORIES:Événement UPR
END:VEVENT
BEGIN:VEVENT
DTSTART;TZID=Europe/Paris:20260211T190000
DTEND;TZID=Europe/Paris:20260211T210000
DTSTAMP:20260424T175435
CREATED:20260207T161153Z
LAST-MODIFIED:20260207T161212Z
UID:96329-1770836400-1770843600@www.upr.fr
SUMMARY:Réunion de la délégation de la Vendée à Mouilleron-le-Captif
DESCRIPTION:La réunion mensuelle de la délégation de la Vendée se tiendra mercredi 11 février\, de 19 heures à 21 heures\, à Mouilleron-le-Captif (adresse par retour de courriel). \nNous aurons l’occasion de discuter des nouvelles de l’UPR et d’échanger sur l’actualité. \nAdhérent\, sympathisant\, militant\, simple curieux\, tout le monde est le bienvenu. \nPaul Remaud\, délégué de la Vendée \nCourriel : delegation_85@upr.fr
URL:https://www.upr.fr/evenement/reunion-de-la-delegation-de-la-vendee-a-mouilleron-le-captif-4/
LOCATION:Mouilleron-le-Captif
CATEGORIES:Événement UPR
END:VEVENT
BEGIN:VEVENT
DTSTART;TZID=Europe/Paris:20260213T140000
DTEND;TZID=Europe/Paris:20260213T170000
DTSTAMP:20260424T175435
CREATED:20251227T215309Z
LAST-MODIFIED:20251227T215309Z
UID:94137-1770991200-1771002000@www.upr.fr
SUMMARY:Permanence de la délégation du Haut-Rhin à Kaysersberg
DESCRIPTION:La délégation du Haut-Rhin tiendra sa permanence le vendredi 13 février\, de 14 heures à 17 heures\, au 7a rue du Geisbourg\, à Kaysersberg. \nSi vous souhaitez vous rendre à la permanence du Haut-Rhin\, vous pouvez contacter Denise Favrel au  07 71 62 74 60  (ou par courriel : favrel.denise@orange.fr). \nNous invitons tous les adhérents\, sympathisants et les curieux à venir nous rencontrer. Vous êtes les bienvenus ! \nDavid Nyom-Kieffer\, délégué du Haut-Rhin
URL:https://www.upr.fr/evenement/permanence-de-la-delegation-du-haut-rhin-a-kaysersberg-36/
LOCATION:Kaysersberg
CATEGORIES:Événement UPR
END:VEVENT
BEGIN:VEVENT
DTSTART;TZID=Europe/Paris:20260214T140000
DTEND;TZID=Europe/Paris:20260214T160000
DTSTAMP:20260424T175435
CREATED:20260207T160716Z
LAST-MODIFIED:20260207T160716Z
UID:96327-1771077600-1771084800@www.upr.fr
SUMMARY:Réunion de la délégation du Vaucluse à Châteaurenard
DESCRIPTION:La prochaine réunion de la délégation du Vaucluse se déroulera le samedi 14 février\, à 14 heures\, chez Serge Pedracki\, au 921 chemin de la Croix du Vigneron\, à Châteaurenard. \nMuriel Hermier\, déléguée du Vaucluse \nCourriel : delegation_84@upr.fr
URL:https://www.upr.fr/evenement/reunion-de-la-delegation-du-vaucluse-a-chateaurenard-8/
LOCATION:Chateaurenard
CATEGORIES:Événement UPR
END:VEVENT
BEGIN:VEVENT
DTSTART;TZID=Europe/Paris:20260214T160000
DTEND;TZID=Europe/Paris:20260214T180000
DTSTAMP:20260424T175435
CREATED:20260207T162739Z
LAST-MODIFIED:20260207T162739Z
UID:96333-1771084800-1771092000@www.upr.fr
SUMMARY:Réunion de la délégation des Hauts-de-Seine à Issy-les-Moulineaux
DESCRIPTION:La délégation des Hauts-de-Seine se réunira samedi 14 février\, à 16 heures\, au Bistrot du Tramway\, 267 rue Jean-Jacques Rousseau\, à Issy-les-Moulineaux. \nLe bistrot se trouve juste à la descente du tramway T2\, en bas de l’escalier\, en face du centre commercial Issy 3 Moulins. \nArnaud Morlot\, délégué des Hauts-de-Seine \nCourriel : delegation_92@upr.fr
URL:https://www.upr.fr/evenement/reunion-de-la-delegation-des-hauts-de-seine-a-issy-les-moulineaux-5/
LOCATION:Issy-les-Moulineaux
CATEGORIES:Événement UPR
END:VEVENT
BEGIN:VEVENT
DTSTART;TZID=Europe/Paris:20260215T100000
DTEND;TZID=Europe/Paris:20260215T120000
DTSTAMP:20260424T175435
CREATED:20260223T141031Z
LAST-MODIFIED:20260223T141031Z
UID:97376-1771149600-1771156800@www.upr.fr
SUMMARY:Exposition sur les traités européens à Canet-en-Roussillon
DESCRIPTION:La délégation des Pyrénées-Orientales organise sa prochaine exposition sur les traités européens (UE\, OTAN\, euro) sur le marché de Canet-en-Roussillon\, le dimanche 15 février\, de 10 heures à midi.  \nUne présentation des traités européens sera faite pour mieux comprendre ce qui arrive à la France. \nLaurence Djerroud\, déléguée des Pyrénées-Orientales \nCourriel : delegation_66@upr.fr
URL:https://www.upr.fr/evenement/exposition-sur-les-traites-europeens-a-canet-en-roussillon-3/
LOCATION:Canet-en-Roussillon
CATEGORIES:Événement UPR
END:VEVENT
BEGIN:VEVENT
DTSTART;TZID=Europe/Paris:20260215T150000
DTEND;TZID=Europe/Paris:20260215T200000
DTSTAMP:20260424T175435
CREATED:20260110T220256Z
LAST-MODIFIED:20260129T185545Z
UID:94228-1771167600-1771185600@www.upr.fr
SUMMARY:Réunion publique de François Asselineau à Chemillé-en-Anjou (Maine-et-Loire)
DESCRIPTION:François Asselineau fera une réunion publique sur le thème suivant : \nQuel avenir pour notre agriculture et nos territoires ? \nDate : \nDimanche 15 février 2026 de 15 heures à 20 heures (ouverture des portes dès 14 h 30) \nLieu : \nSalle Collinéa à St-Georges-des-Gardes (commune de Chemillé-en-Charnie) \nInformations pratiques : \n– Parking \n– Boutique UPR \n– Pot de l’amitité \nContacts : \ndelegation_49@upr.fr \nSMS 06 23 13 08 81
URL:https://www.upr.fr/evenement/reunion-publique-de-francois-asselineau-a-chemille-en-anjou-maine-et-loire/
LOCATION:Chemillé-en-Anjou
CATEGORIES:Conférence
END:VEVENT
BEGIN:VEVENT
DTSTART;TZID=Europe/Paris:20260220T140000
DTEND;TZID=Europe/Paris:20260220T170000
DTSTAMP:20260424T175435
CREATED:20251227T215519Z
LAST-MODIFIED:20251227T215519Z
UID:94139-1771596000-1771606800@www.upr.fr
SUMMARY:Permanence de la délégation du Haut-Rhin à Kaysersberg
DESCRIPTION:La délégation du Haut-Rhin tiendra sa permanence le vendredi 20 février\, de 14 heures à 17 heures\, au 7a rue du Geisbourg\, à Kaysersberg. \nSi vous souhaitez vous rendre à la permanence du Haut-Rhin\, vous pouvez contacter Denise Favrel au  07 71 62 74 60  (ou par courriel : favrel.denise@orange.fr). \nNous invitons tous les adhérents\, sympathisants et les curieux à venir nous rencontrer. Vous êtes les bienvenus ! \nDavid Nyom-Kieffer\, délégué du Haut-Rhin
URL:https://www.upr.fr/evenement/permanence-de-la-delegation-du-haut-rhin-a-kaysersberg-37/
LOCATION:Kaysersberg
CATEGORIES:Événement UPR
END:VEVENT
BEGIN:VEVENT
DTSTART;TZID=Europe/Paris:20260220T190000
DTEND;TZID=Europe/Paris:20260220T210000
DTSTAMP:20260424T175435
CREATED:20260207T162118Z
LAST-MODIFIED:20260207T162252Z
UID:96331-1771614000-1771621200@www.upr.fr
SUMMARY:Réunion de la délégation de la rive gauche de Paris dans le 13ème arrondissement
DESCRIPTION:La prochaine réunion mensuelle de la rive gauche de Paris se tiendra le vendredi 20 février\, à partir de 19 heures\, au Restaurant de la Butte aux Cailles\, 8 rue de la butte aux Cailles\, Paris 13ème. \nCette réunion commencera par une présentation historique des racines de la politique étrangère des États-Unis d’Amérique\, avant de passer à une discussion ouverte sur les évènements actuels qui en découlent. \nÀ bientôt donc vous retrouver à la Butte aux Cailles. \nYves Limoge\, délégué de la rive gauche de Paris \nCourriel : paris.rive.gauche@upr.fr \n 
URL:https://www.upr.fr/evenement/reunion-de-la-delegation-de-la-rive-gauche-de-paris-dans-le-13eme-arrondissement-8/
LOCATION:Paris 13ème arrondissement
CATEGORIES:Événement UPR
END:VEVENT
BEGIN:VEVENT
DTSTART;TZID=Europe/Paris:20260221T100000
DTEND;TZID=Europe/Paris:20260221T120000
DTSTAMP:20260424T175435
CREATED:20260218T170550Z
LAST-MODIFIED:20260218T170550Z
UID:97209-1771668000-1771675200@www.upr.fr
SUMMARY:Réunion de la délégation de l'Orne à Cuissai
DESCRIPTION:La prochaine réunion de la délégation de l’Orne aura lieu samedi 21 février\, à 10 heures\, au 29 route du Désert\, à Cuissai. \nJacques Durvie\, délégué de l’Orne \nCourriel : delegation_61@upr.fr \n 
URL:https://www.upr.fr/evenement/reunion-de-la-delegation-de-lorne-a-cuissai-2/
LOCATION:Cuissai
CATEGORIES:Événement UPR
END:VEVENT
BEGIN:VEVENT
DTSTART;TZID=Europe/Paris:20260227T140000
DTEND;TZID=Europe/Paris:20260227T170000
DTSTAMP:20260424T175435
CREATED:20251227T215756Z
LAST-MODIFIED:20251227T215756Z
UID:94141-1772200800-1772211600@www.upr.fr
SUMMARY:Permanence de la délégation du Haut-Rhin à Kaysersberg
DESCRIPTION:La délégation du Haut-Rhin tiendra sa permanence le vendredi 27 février\, de 14 heures à 17 heures\, au 7a rue du Geisbourg\, à Kaysersberg. \nSi vous souhaitez vous rendre à la permanence du Haut-Rhin\, vous pouvez contacter Denise Favrel au  07 71 62 74 60  (ou par courriel : favrel.denise@orange.fr). \nNous invitons tous les adhérents\, sympathisants et les curieux à venir nous rencontrer. Vous êtes les bienvenus ! \nDavid Nyom-Kieffer\, délégué du Haut-Rhin
URL:https://www.upr.fr/evenement/permanence-de-la-delegation-du-haut-rhin-a-kaysersberg-38/
LOCATION:Kaysersberg
CATEGORIES:Événement UPR
END:VEVENT
BEGIN:VEVENT
DTSTART;TZID=Europe/Paris:20260227T190000
DTEND;TZID=Europe/Paris:20260227T213000
DTSTAMP:20260424T175435
CREATED:20260223T135512Z
LAST-MODIFIED:20260223T135620Z
UID:97370-1772218800-1772227800@www.upr.fr
SUMMARY:Réunion de la délégation du Calvados à Caen
DESCRIPTION:La réunion mensuelle de la délégation du Calvados aura lieu le vendredi 27 février\, de 19 heures à 21 h 30 autour d’un apéritif dinatoire\, à la Maison de quartier de la Maladrerie\, 9 bis rue Saint Germain\, à Caen. \nL’ordre du jour sera le suivant : \n– Débat sur le programme et proposition de nouvelles mesures \n– Nouvelles actions de terrain \n– Point sur le cybermilitantisme \n– Questions diverses \n– Distribution de matériel militant \nMerci de me prévenir de votre présence et de ce que vous comptez éventuellement apporter au moins 2-3 jours avant afin de nous organiser. Pour ceux qui souhaitent venir en covoiturage\, je vous invite à me contacter afin d’en organiser un. \nSimon Gervais\, délégué du Calvados \nTél : 06 42 91 81 95
URL:https://www.upr.fr/evenement/reunion-de-la-delegation-du-calvados-a-caen-2/
LOCATION:Caen
CATEGORIES:Événement UPR
END:VEVENT
BEGIN:VEVENT
DTSTART;TZID=Europe/Paris:20260228T143000
DTEND;TZID=Europe/Paris:20260228T163000
DTSTAMP:20260424T175435
CREATED:20260222T214623Z
LAST-MODIFIED:20260222T214623Z
UID:97291-1772289000-1772296200@www.upr.fr
SUMMARY:Réunion de la délégation de l'Yonne à Montigny-la-Resle
DESCRIPTION:La délégation de l’Yonne organise la prochaine réunion de ses adhérents le samedi 28 février\, à 14 h 30\, à Montigny-la-Resle\, pour déguster la galette des rois. \nChristian Basin\, délégué de l’Yonne \nCourriel : delegation_89@upr.fr
URL:https://www.upr.fr/evenement/reunion-de-la-delegation-de-lyonne-a-montigny-la-resle-7/
LOCATION:Montigny-la-Resle
CATEGORIES:Événement UPR
END:VEVENT
BEGIN:VEVENT
DTSTART;TZID=Europe/Paris:20260228T150000
DTEND;TZID=Europe/Paris:20260228T170000
DTSTAMP:20260424T175435
CREATED:20260208T202848Z
LAST-MODIFIED:20260208T202848Z
UID:96696-1772290800-1772298000@www.upr.fr
SUMMARY:Réunion de la délégation du Rhône à Lyon
DESCRIPTION:La délégation du Rhône tiendra sa prochaine réunion mensuelle\, ouverte aux adhérents\, le samedi 28 février\, de 15 heures à 17 heures\, à l’Esprit Bistrot\, au 13 rue Berchet\, Lyon 8ème. \nCourriels : Patrice Cali patrice.cali@upr.fr ou Olivier Pelingre delegation_69@upr.fr
URL:https://www.upr.fr/evenement/reunion-de-la-delegation-du-rhone-a-lyon-5/
LOCATION:Lyon
CATEGORIES:Événement UPR
END:VEVENT
BEGIN:VEVENT
DTSTART;TZID=Europe/Paris:20260228T163000
DTEND;TZID=Europe/Paris:20260228T183000
DTSTAMP:20260424T175435
CREATED:20260218T171141Z
LAST-MODIFIED:20260218T171141Z
UID:97211-1772296200-1772303400@www.upr.fr
SUMMARY:Réunion de la délégation de l'Orne à Louviers
DESCRIPTION:Le prochain café-débat de la délégation de l’Eure aura lieu le samedi 28 février\, à 16 h 30\, au café Le Parvis\, 44 rue du Maréchal Foch\, à Louviers. \nLe thème sera le désespoir en politique ainsi que les sujets d’espérance. \nStéphanie Rouillon\, déléguée de l’Eure \nCourriel : delegation_27@upr.fr \n  \n 
URL:https://www.upr.fr/evenement/reunion-de-la-delegation-de-lorne-a-louviers/
LOCATION:Louviers
CATEGORIES:Événement UPR
END:VEVENT
END:VCALENDAR