BEGIN:VCALENDAR
VERSION:2.0
PRODID:-//Union Populaire Républicaine | UPR - ECPv6.15.16//NONSGML v1.0//EN
CALSCALE:GREGORIAN
METHOD:PUBLISH
X-WR-CALNAME:Union Populaire Républicaine | UPR
X-ORIGINAL-URL:https://www.upr.fr
X-WR-CALDESC:Évènements pour Union Populaire Républicaine | UPR
REFRESH-INTERVAL;VALUE=DURATION:PT1H
X-Robots-Tag:noindex
X-PUBLISHED-TTL:PT1H
BEGIN:VTIMEZONE
TZID:Europe/Paris
BEGIN:DAYLIGHT
TZOFFSETFROM:+0100
TZOFFSETTO:+0200
TZNAME:CEST
DTSTART:20250330T010000
END:DAYLIGHT
BEGIN:STANDARD
TZOFFSETFROM:+0200
TZOFFSETTO:+0100
TZNAME:CET
DTSTART:20251026T010000
END:STANDARD
BEGIN:DAYLIGHT
TZOFFSETFROM:+0100
TZOFFSETTO:+0200
TZNAME:CEST
DTSTART:20260329T010000
END:DAYLIGHT
BEGIN:STANDARD
TZOFFSETFROM:+0200
TZOFFSETTO:+0100
TZNAME:CET
DTSTART:20261025T010000
END:STANDARD
BEGIN:DAYLIGHT
TZOFFSETFROM:+0100
TZOFFSETTO:+0200
TZNAME:CEST
DTSTART:20270328T010000
END:DAYLIGHT
BEGIN:STANDARD
TZOFFSETFROM:+0200
TZOFFSETTO:+0100
TZNAME:CET
DTSTART:20271031T010000
END:STANDARD
END:VTIMEZONE
BEGIN:VEVENT
DTSTART;TZID=Europe/Paris:20260301T100000
DTEND;TZID=Europe/Paris:20260301T120000
DTSTAMP:20260424T154413
CREATED:20260223T140826Z
LAST-MODIFIED:20260223T140826Z
UID:97374-1772359200-1772366400@www.upr.fr
SUMMARY:Exposition sur les traités européens à Canet-en-Roussillon
DESCRIPTION:La délégation des Pyrénées-Orientales organise sa prochaine exposition sur les traités européens (UE\, OTAN\, euro) sur le marché de Canet-en-Roussillon\, le dimanche 1er mars\, de 10 heures à midi.  \nUne présentation des traités européens sera faite pour mieux comprendre ce qui arrive à la France. \nLaurence Djerroud\, déléguée des Pyrénées-Orientales \nCourriel : delegation_66@upr.fr
URL:https://www.upr.fr/evenement/exposition-sur-les-traites-europeens-a-canet-en-roussillon-2/
LOCATION:Canet-en-Roussillon
CATEGORIES:Événement UPR
END:VEVENT
BEGIN:VEVENT
DTSTART;TZID=Europe/Paris:20260306T140000
DTEND;TZID=Europe/Paris:20260306T170000
DTSTAMP:20260424T154413
CREATED:20260304T171844Z
LAST-MODIFIED:20260304T172606Z
UID:97620-1772805600-1772816400@www.upr.fr
SUMMARY:Permanence de la délégation du Haut-Rhin à Kaysersberg
DESCRIPTION:La délégation du Haut-Rhin tiendra sa permanence le vendredi 6 mars\, de 14 heures à 17 heures\, au 7a rue du Geisbourg\, à Kaysersberg. \nSi vous souhaitez vous rendre à la permanence du Haut-Rhin\, vous pouvez contacter Denise Favrel au  07 71 62 74 60  (ou par courriel : favrel.denise@orange.fr). \nNous invitons tous les adhérents\, sympathisants et les curieux à venir nous rencontrer. Vous êtes les bienvenus ! \nDavid Nyom-Kieffer\, délégué du Haut-Rhin
URL:https://www.upr.fr/evenement/permanence-de-la-delegation-du-haut-rhin-a-kaysersberg-39/
LOCATION:Kaysersberg
CATEGORIES:Événement UPR
END:VEVENT
BEGIN:VEVENT
DTSTART;TZID=Europe/Paris:20260311T190000
DTEND;TZID=Europe/Paris:20260311T210000
DTSTAMP:20260424T154413
CREATED:20260307T211919Z
LAST-MODIFIED:20260307T211919Z
UID:98203-1773255600-1773262800@www.upr.fr
SUMMARY:Réunion de la délégation de la Vendée à Mouilleron-le-Captif
DESCRIPTION:La réunion mensuelle de la délégation de la Vendée se tiendra mercredi 11 mars\, de 19 heures à 21 heures\, à Mouilleron-le-Captif (adresse par retour de courriel). \nNous aurons l’occasion de discuter des nouvelles de l’UPR et d’échanger sur l’actualité. \nAdhérent\, sympathisant\, militant\, simple curieux\, tout le monde est le bienvenu. \nPaul Remaud\, délégué de la Vendée \nCourriel : delegation_85@upr.fr
URL:https://www.upr.fr/evenement/reunion-de-la-delegation-de-la-vendee-a-mouilleron-le-captif-5/
LOCATION:Mouilleron-le Captif
CATEGORIES:Événement UPR
END:VEVENT
BEGIN:VEVENT
DTSTART;TZID=Europe/Paris:20260312T190000
DTEND;TZID=Europe/Paris:20260312T220000
DTSTAMP:20260424T154413
CREATED:20260208T202418Z
LAST-MODIFIED:20260309T201214Z
UID:96693-1773342000-1773352800@www.upr.fr
SUMMARY:Permanence de la délégation du Rhône à Lyon
DESCRIPTION:La délégation du Rhône tiendra sa permanence jeudi 12 mars\, de 19 heures à 22 heures\, à la pizzeria Basilic and Co\, au 34 rue du sergent Michel Berthet\, à Lyon Vaise (entre la sortie métro Gorge de loup et la sortie métro Valmy\, ligne D). \nOlivier Pelingre\, délégué du Rhône \nCourriel : delegation_69@upr.fr
URL:https://www.upr.fr/evenement/permanence-de-la-delegation-du-rhone-a-lyon-17/
LOCATION:Lyon
CATEGORIES:Événement UPR
END:VEVENT
BEGIN:VEVENT
DTSTART;TZID=Europe/Paris:20260313T140000
DTEND;TZID=Europe/Paris:20260313T170000
DTSTAMP:20260424T154413
CREATED:20260304T172020Z
LAST-MODIFIED:20260304T172853Z
UID:97622-1773410400-1773421200@www.upr.fr
SUMMARY:Permanence de la délégation du Haut-Rhin à Kaysersberg
DESCRIPTION:La délégation du Haut-Rhin tiendra sa permanence le vendredi 13 mars\, de 14 heures à 17 heures\, au 7a rue du Geisbourg\, à Kaysersberg. \nSi vous souhaitez vous rendre à la permanence du Haut-Rhin\, vous pouvez contacter Denise Favrel au  07 71 62 74 60  (ou par courriel : favrel.denise@orange.fr). \nNous invitons tous les adhérents\, sympathisants et les curieux à venir nous rencontrer. Vous êtes les bienvenus ! \nDavid Nyom-Kieffer\, délégué du Haut-Rhin
URL:https://www.upr.fr/evenement/permanence-de-la-delegation-du-haut-rhin-a-kaysersberg-40/
LOCATION:Kaysersberg
CATEGORIES:Événement UPR
END:VEVENT
BEGIN:VEVENT
DTSTART;TZID=Europe/Paris:20260314T140000
DTEND;TZID=Europe/Paris:20260314T160000
DTSTAMP:20260424T154413
CREATED:20260307T220723Z
LAST-MODIFIED:20260307T220723Z
UID:98220-1773496800-1773504000@www.upr.fr
SUMMARY:Réunion de la délégation du Vaucluse à Châteaurenard
DESCRIPTION:La prochaine réunion de la délégation du Vaucluse se déroulera le samedi 14 mars\, à 14 heures\, chez Serge Pedracki\, au 921 chemin de la Croix du Vigneron\, à Châteaurenard. \nMuriel Hermier\, déléguée du Vaucluse \nCourriel : delegation_84@upr.fr
URL:https://www.upr.fr/evenement/reunion-de-la-delegation-du-vaucluse-a-chateaurenard-9/
LOCATION:Chateaurenard
CATEGORIES:Événement UPR
END:VEVENT
BEGIN:VEVENT
DTSTART;TZID=Europe/Paris:20260320T140000
DTEND;TZID=Europe/Paris:20260320T170000
DTSTAMP:20260424T154413
CREATED:20260304T172208Z
LAST-MODIFIED:20260304T172805Z
UID:97624-1774015200-1774026000@www.upr.fr
SUMMARY:Permanence de la délégation du Haut-Rhin à Kaysersberg
DESCRIPTION:La délégation du Haut-Rhin tiendra sa permanence le vendredi 20 mars\, de 14 heures à 17 heures\, au 7a rue du Geisbourg\, à Kaysersberg. \nSi vous souhaitez vous rendre à la permanence du Haut-Rhin\, vous pouvez contacter Denise Favrel au  07 71 62 74 60  (ou par courriel : favrel.denise@orange.fr). \nNous invitons tous les adhérents\, sympathisants et les curieux à venir nous rencontrer. Vous êtes les bienvenus ! \nDavid Nyom-Kieffer\, délégué du Haut-Rhin
URL:https://www.upr.fr/evenement/permanence-de-la-delegation-du-haut-rhin-a-kaysersberg-41/
LOCATION:Kaysersberg
CATEGORIES:Événement UPR
END:VEVENT
BEGIN:VEVENT
DTSTART;TZID=Europe/Paris:20260320T190000
DTEND;TZID=Europe/Paris:20260320T210000
DTSTAMP:20260424T154413
CREATED:20260309T201723Z
LAST-MODIFIED:20260309T201723Z
UID:98530-1774033200-1774040400@www.upr.fr
SUMMARY:Réunion de la rive gauche de Paris dans le 13ème arrondissement
DESCRIPTION:La prochaine réunion mensuelle de la rive gauche de Paris se tiendra le vendredi 20 mars à partir de 19 heures\, au « Restaurant de la Butte aux Cailles »\, 8 rue de la Butte aux Cailles\, Paris 13ème. \nLe thème du jour sera notre participation à la recherche des parrainages en vue de l’élection présidentielle de 2027\, suivie de l’habituelle discussion des évènements en cours. \nYves Limoge\, délégué de la rive gauche de Paris \nCourriel : paris.rive.gauche@upr.fr \n 
URL:https://www.upr.fr/evenement/reunion-de-la-rive-gauche-de-paris-dans-le-13eme-arrondissement-3/
LOCATION:Paris 13ème arrondissement
CATEGORIES:Événement UPR
END:VEVENT
BEGIN:VEVENT
DTSTART;TZID=Europe/Paris:20260321T140000
DTEND;TZID=Europe/Paris:20260321T200000
DTSTAMP:20260424T154413
CREATED:20260311T223557Z
LAST-MODIFIED:20260311T223944Z
UID:98709-1774101600-1774123200@www.upr.fr
SUMMARY:Anniversaire de l'UPR à Paris 11ème arrondissement
DESCRIPTION:L’UPR est née le 25 mars 2007\, il y aura bientôt 19 ans. Pour célébrer cet anniversaire\, nous avons le grand plaisir de vous inviter à fêter ensemble cet événement et vous donnons rendez-vous : \nsamedi 21 mars\, à partir de 14 heures\, au Palais de la Femme\, 96 rue de Charonne\, à Paris 11ème arrondissement. \nNous vous accueillerons à partir de 14 heures. \nÀ 15 h 30\, les personnalités invitées  prendront successivement la parole et répondront à vos questions. \nVers 17 heures\, François Asselineau prononcera un discours à l’occasion des 19 ans de l’UPR. \nUn dernier temps d’échanges suivra\, avant de devoir libérer les lieux à 20 heures. \nTout au long de l’après-midi et en début de soirée\, la boutique ainsi que l’espace adhésions et dons seront accessibles pour soutenir le mouvement. \nL’entrée est libre. \nAlors que se profile l’échéance déterminante de l’élection présidentielle de 2027\, qui nécessitera la mobilisation de tous\, nous comptons sur votre présence nombreuse. \n  \n \n  \n 
URL:https://www.upr.fr/evenement/anniversaire-de-lupr-2/
LOCATION:Paris 11ème arrondissement
CATEGORIES:Réunions publiques
END:VEVENT
BEGIN:VEVENT
DTSTART;TZID=Europe/Paris:20260326T190000
DTEND;TZID=Europe/Paris:20260326T220000
DTSTAMP:20260424T154413
CREATED:20260308T211135Z
LAST-MODIFIED:20260309T201115Z
UID:98456-1774551600-1774562400@www.upr.fr
SUMMARY:Permanence de la délégation du Rhône à Lyon
DESCRIPTION:La délégation du Rhône tiendra sa permanence jeudi 26 mars\, de 19 heures à 22 heures\, à la pizzeria Basilic and Co\, au 34 rue du sergent Michel Berthet\, à Lyon Vaise (entre la sortie métro Gorge de loup et la sortie métro Valmy\, ligne D). \nOlivier Pelingre\, délégué du Rhône \nCourriel : delegation_69@upr.fr
URL:https://www.upr.fr/evenement/permanence-de-la-delegation-du-rhone-a-lyon-18/
LOCATION:Lyon
CATEGORIES:Événement UPR
END:VEVENT
BEGIN:VEVENT
DTSTART;TZID=Europe/Paris:20260327T140000
DTEND;TZID=Europe/Paris:20260327T170000
DTSTAMP:20260424T154413
CREATED:20260304T172344Z
LAST-MODIFIED:20260304T172728Z
UID:97626-1774620000-1774630800@www.upr.fr
SUMMARY:Permanence de la délégation du Haut-Rhin à Kaysersberg
DESCRIPTION:La délégation du Haut-Rhin tiendra sa permanence le vendredi 27 mars\, de 14 heures à 17 heures\, au 7a rue du Geisbourg\, à Kaysersberg. \nSi vous souhaitez vous rendre à la permanence du Haut-Rhin\, vous pouvez contacter Denise Favrel au  07 71 62 74 60  (ou par courriel : favrel.denise@orange.fr). \nNous invitons tous les adhérents\, sympathisants et les curieux à venir nous rencontrer. Vous êtes les bienvenus ! \nDavid Nyom-Kieffer\, délégué du Haut-Rhin
URL:https://www.upr.fr/evenement/permanence-de-la-delegation-du-haut-rhin-a-kaysersberg-42/
LOCATION:Kaysersberg
CATEGORIES:Événement UPR
END:VEVENT
BEGIN:VEVENT
DTSTART;TZID=Europe/Paris:20260328T143000
DTEND;TZID=Europe/Paris:20260328T163000
DTSTAMP:20260424T154413
CREATED:20260317T204319Z
LAST-MODIFIED:20260317T204319Z
UID:98770-1774708200-1774715400@www.upr.fr
SUMMARY:Réunion de la délégation de La Vieille-Lyre à Louviers
DESCRIPTION:La prochaine réunion de la délégation de l’Eure aura lieu le samedi 28 mars\, au 14 rue Pierre Le Boulch\, à La Vieille-Lyre\, à 14 h 30. \nNous y parlerons des nouvelles affiches et des recherches de promesses de parrainage. \nEnfin\, nous tenterons de choisir un thème pour le prochain café-débat qui aura lieu fin avril à Louviers. \nStéphanie Rouillon\, déléguée de l’Eure \nCourriel : delegation_27@upr.fr
URL:https://www.upr.fr/evenement/reunion-de-la-delegation-de-la-vieille-lyre-a-louviers/
LOCATION:La Vieille-Lyre
CATEGORIES:Événement UPR
END:VEVENT
BEGIN:VEVENT
DTSTART;TZID=Europe/Paris:20260328T150000
DTEND;TZID=Europe/Paris:20260328T170000
DTSTAMP:20260424T154413
CREATED:20260308T211702Z
LAST-MODIFIED:20260308T211702Z
UID:98458-1774710000-1774717200@www.upr.fr
SUMMARY:Réunion de la délégation du Rhône à Lyon
DESCRIPTION:La réunion mensuelle de la délégation du Rhône\, ouverte aux adhérents\, aura lieu le samedi 28 mars de 15 heures à 17 heures\, à l’Esprit Bistrot\, au 13 rue Berchet\, Lyon 8ème. \nContact : Patrice Cali patrice.cali@upr.fr ou Olivier Pelingre delegation_69@upr.fr
URL:https://www.upr.fr/evenement/reunion-de-la-delegation-du-rhone-a-lyon-6/
LOCATION:Lyon
CATEGORIES:Événement UPR
END:VEVENT
BEGIN:VEVENT
DTSTART;TZID=Europe/Paris:20260328T160000
DTEND;TZID=Europe/Paris:20260328T180000
DTSTAMP:20260424T154413
CREATED:20260305T163038Z
LAST-MODIFIED:20260314T100005Z
UID:97656-1774713600-1774720800@www.upr.fr
SUMMARY:Réunion de la délégation des Hauts-de-Seine à Issy-les-Moulineaux
DESCRIPTION:La prochaine réunion de la délégation des Hauts-de-Seine aura lieu samedi 28 mars\, à 16 heures\, au Bistrot du Tramway\, 267 rue Jean-Jacques Rousseau\, à Issy-les-Moulineaux. \nLe bistrot se trouve juste à la descente du tramway T2\, en bas de l’escalier\, en face du centre commercial Issy 3 Moulins. \nArnaud Morlot\, délégué des Hauts-de-Seine \nCourriel : delegation_92@upr.fr \n 
URL:https://www.upr.fr/evenement/reunion-de-la-delegation-des-hauts-de-seine-a-issy-les-moulineaux-6/
LOCATION:Issy-les-Moulineaux
CATEGORIES:Événement UPR
END:VEVENT
END:VCALENDAR